Package: zellkonverter Version: 1.16.0 Command: chmod a+r zellkonverter -R && F:\biocbuild\bbs-3.20-bioc\R\bin\R.exe CMD build --keep-empty-dirs --no-resave-data zellkonverter StartedAt: 2025-01-30 22:34:14 -0500 (Thu, 30 Jan 2025) EndedAt: 2025-01-30 22:36:40 -0500 (Thu, 30 Jan 2025) EllapsedTime: 146.0 seconds RetCode: 0 Status: OK PackageFile: zellkonverter_1.16.0.tar.gz PackageFileSize: 1.127 MiB