Package: zellkonverter Version: 1.16.0 Command: /home/biocbuild/R/R/bin/R CMD INSTALL zellkonverter StartedAt: 2025-01-30 20:17:24 -0000 (Thu, 30 Jan 2025) EndedAt: 2025-01-30 20:17:46 -0000 (Thu, 30 Jan 2025) EllapsedTime: 21.5 seconds RetCode: 0 Status: OK