Package: zenith Version: 1.8.0 Command: /Library/Frameworks/R.framework/Resources/bin/R CMD build --keep-empty-dirs --no-resave-data zenith StartedAt: 2025-02-04 10:41:53 -0500 (Tue, 04 Feb 2025) EndedAt: 2025-02-04 10:43:33 -0500 (Tue, 04 Feb 2025) EllapsedTime: 100.6 seconds RetCode: 0 Status: OK PackageFile: zenith_1.8.0.tar.gz PackageFileSize: 4.091 MiB