Package: zenith Version: 1.8.0 Command: /home/biocbuild/bbs-3.20-bioc/R/bin/R CMD check --install=check:zenith.install-out.txt --library=/home/biocbuild/bbs-3.20-bioc/R/site-library --timings zenith_1.8.0.tar.gz StartedAt: 2025-02-04 03:39:24 -0500 (Tue, 04 Feb 2025) EndedAt: 2025-02-04 03:44:11 -0500 (Tue, 04 Feb 2025) EllapsedTime: 287.6 seconds RetCode: 0 Status: OK CheckDir: zenith.Rcheck Warnings: 0