Package: zenith Version: 1.8.0 Command: rm -rf zenith.buildbin-libdir && mkdir zenith.buildbin-libdir && F:\biocbuild\bbs-3.20-bioc\R\bin\R.exe CMD INSTALL --build --library=zenith.buildbin-libdir zenith_1.8.0.tar.gz StartedAt: 2025-02-04 09:46:45 -0500 (Tue, 04 Feb 2025) EndedAt: 2025-02-04 09:47:25 -0500 (Tue, 04 Feb 2025) EllapsedTime: 39.7 seconds RetCode: 0 Status: OK PackageFile: zenith_1.8.0.zip PackageFileSize: 694.4 KiB