Package: zenith Version: 1.8.0 Command: F:\biocbuild\bbs-3.20-bioc\R\bin\R.exe CMD check --no-multiarch --install=check:zenith.install-out.txt --library=F:\biocbuild\bbs-3.20-bioc\R\library --no-vignettes --timings zenith_1.8.0.tar.gz StartedAt: 2025-02-04 07:35:04 -0500 (Tue, 04 Feb 2025) EndedAt: 2025-02-04 07:40:05 -0500 (Tue, 04 Feb 2025) EllapsedTime: 301.9 seconds RetCode: 0 Status: OK CheckDir: zenith.Rcheck Warnings: 0