Package: zenith
Version: 1.8.0
Command: /home/biocbuild/R/R/bin/R CMD check --install=check:zenith.install-out.txt --library=/home/biocbuild/R/R/site-library --no-vignettes --timings zenith_1.8.0.tar.gz
StartedAt: 2025-02-18 12:15:45 -0000 (Tue, 18 Feb 2025)
EndedAt: 2025-02-18 12:21:22 -0000 (Tue, 18 Feb 2025)
EllapsedTime: 337.2 seconds
RetCode: 0
Status: OK
CheckDir: zenith.Rcheck
Warnings: 0