Package: zitools Version: 1.0.0 Command: rm -rf zitools.buildbin-libdir && mkdir zitools.buildbin-libdir && /Users/biocbuild/BBS/utils/build-universal.sh zitools_1.0.0.tar.gz /Library/Frameworks/R.framework/Resources/bin/R zitools.buildbin-libdir StartedAt: 2025-02-01 17:24:07 -0500 (Sat, 01 Feb 2025) EndedAt: 2025-02-01 17:24:49 -0500 (Sat, 01 Feb 2025) EllapsedTime: 41.8 seconds RetCode: 0 Status: OK PackageFile: zitools_1.0.0.tgz PackageFileSize: 764.4 KiB