Package: zitools Version: 1.0.0 Command: /Library/Frameworks/R.framework/Resources/bin/R CMD build --keep-empty-dirs --no-resave-data zitools StartedAt: 2025-02-04 10:42:41 -0500 (Tue, 04 Feb 2025) EndedAt: 2025-02-04 10:45:00 -0500 (Tue, 04 Feb 2025) EllapsedTime: 139.0 seconds RetCode: 0 Status: OK PackageFile: zitools_1.0.0.tar.gz PackageFileSize: 242.3 KiB