Package: zitools Version: 1.0.0 Command: /Library/Frameworks/R.framework/Resources/bin/R CMD check --install=check:zitools.install-out.txt --library=/Library/Frameworks/R.framework/Resources/library --no-vignettes --timings zitools_1.0.0.tar.gz StartedAt: 2025-02-01 13:38:46 -0500 (Sat, 01 Feb 2025) EndedAt: 2025-02-01 13:45:59 -0500 (Sat, 01 Feb 2025) EllapsedTime: 432.4 seconds RetCode: 0 Status: WARNINGS CheckDir: zitools.Rcheck Warnings: 1