Package: zitools Version: 1.0.0 Command: /Library/Frameworks/R.framework/Resources/bin/R CMD build --keep-empty-dirs --no-resave-data zitools StartedAt: 2025-01-30 23:46:21 -0500 (Thu, 30 Jan 2025) EndedAt: 2025-01-30 23:49:15 -0500 (Thu, 30 Jan 2025) EllapsedTime: 174.0 seconds RetCode: 0 Status: OK PackageFile: zitools_1.0.0.tar.gz PackageFileSize: 241.5 KiB