Package: zitools Version: 1.0.0 Command: chmod a+r zitools -R && F:\biocbuild\bbs-3.20-bioc\R\bin\R.exe CMD build --keep-empty-dirs --no-resave-data zitools StartedAt: 2025-01-30 22:35:03 -0500 (Thu, 30 Jan 2025) EndedAt: 2025-01-30 22:37:32 -0500 (Thu, 30 Jan 2025) EllapsedTime: 148.8 seconds RetCode: 0 Status: OK PackageFile: zitools_1.0.0.tar.gz PackageFileSize: 240 KiB