Package: AnnotationHubData Version: 1.37.0 Command: /home/rapidbuild/bbs-3.21-bioc-rapid/R/bin/R CMD build --keep-empty-dirs --no-resave-data AnnotationHubData StartedAt: 2025-02-06 06:33:50 -0500 (Thu, 06 Feb 2025) EndedAt: 2025-02-06 06:34:28 -0500 (Thu, 06 Feb 2025) EllapsedTime: 38.3 seconds RetCode: 0 Status: OK PackageFile: AnnotationHubData_1.37.0.tar.gz PackageFileSize: 400.4 KiB