Package: BSgenome Version: 1.75.1 Command: /home/rapidbuild/bbs-3.21-bioc-rapid/R/bin/R CMD check --install=check:BSgenome.install-out.txt --library=/home/rapidbuild/bbs-3.21-bioc-rapid/R/site-library --timings BSgenome_1.75.1.tar.gz StartedAt: 2025-02-06 08:08:20 -0500 (Thu, 06 Feb 2025) EndedAt: 2025-02-06 08:15:17 -0500 (Thu, 06 Feb 2025) EllapsedTime: 417.4 seconds RetCode: 0 Status: WARNINGS CheckDir: BSgenome.Rcheck Warnings: 1