Package: BSgenomeForge Version: 1.7.0 Command: /home/rapidbuild/bbs-3.21-bioc-rapid/R/bin/R CMD INSTALL BSgenomeForge StartedAt: 2025-02-10 06:26:42 -0500 (Mon, 10 Feb 2025) EndedAt: 2025-02-10 06:27:11 -0500 (Mon, 10 Feb 2025) EllapsedTime: 29.5 seconds RetCode: 0 Status: OK