Package: BiocBaseUtils
Version: 1.9.0
Command: /home/rapidbuild/bbs-3.21-bioc-rapid/R/bin/R CMD build --keep-empty-dirs --no-resave-data BiocBaseUtils
StartedAt: 2025-02-20 12:32:26 -0500 (Thu, 20 Feb 2025)
EndedAt: 2025-02-20 12:32:30 -0500 (Thu, 20 Feb 2025)
EllapsedTime: 4.0 seconds
RetCode: 0
Status: OK
PackageFile: BiocBaseUtils_1.9.0.tar.gz
PackageFileSize: 226.3 <A href="http://en.wikipedia.org/wiki/KiB" target="_blank">KiB</A>