Package: BiocCheck Version: 1.43.4 Maintainer: Marcel Ramos MaintainerEmail: marcel.ramos at sph.cuny.edu git_url: https://git.bioconductor.org/packages/BiocCheck git_branch: devel git_last_commit: 06df076 git_last_commit_date: 2025-02-03 12:42:50 -0500 (Mon, 03 Feb 2025)