Package: BiocFileCache Version: 2.15.1 Command: /home/rapidbuild/bbs-3.21-bioc-rapid/R/bin/R CMD INSTALL BiocFileCache StartedAt: 2025-02-21 12:15:56 -0500 (Fri, 21 Feb 2025) EndedAt: 2025-02-21 12:16:01 -0500 (Fri, 21 Feb 2025) EllapsedTime: 5.4 seconds RetCode: 0 Status: OK