Package: BiocIO Version: 1.17.1 Command: /home/rapidbuild/bbs-3.21-bioc-rapid/R/bin/R CMD check --install=check:BiocIO.install-out.txt --library=/home/rapidbuild/bbs-3.21-bioc-rapid/R/site-library --timings BiocIO_1.17.1.tar.gz StartedAt: 2025-02-06 08:03:06 -0500 (Thu, 06 Feb 2025) EndedAt: 2025-02-06 08:03:40 -0500 (Thu, 06 Feb 2025) EllapsedTime: 34.0 seconds RetCode: 0 Status: OK CheckDir: BiocIO.Rcheck Warnings: 0