Package: BiocIO Version: 1.17.1 Command: /home/rapidbuild/bbs-3.21-bioc-rapid/R/bin/R CMD INSTALL BiocIO StartedAt: 2025-02-06 06:14:18 -0500 (Thu, 06 Feb 2025) EndedAt: 2025-02-06 06:14:22 -0500 (Thu, 06 Feb 2025) EllapsedTime: 4.2 seconds RetCode: 0 Status: OK