Package: BumpyMatrix Version: 1.15.0 Command: /home/rapidbuild/bbs-3.21-bioc-rapid/R/bin/R CMD INSTALL BumpyMatrix StartedAt: 2025-02-06 06:13:29 -0500 (Thu, 06 Feb 2025) EndedAt: 2025-02-06 06:13:43 -0500 (Thu, 06 Feb 2025) EllapsedTime: 14.0 seconds RetCode: 0 Status: OK