Package: ChemmineOB Version: 1.45.0 Command: /home/rapidbuild/bbs-3.21-bioc-rapid/R/bin/R CMD build --keep-empty-dirs --no-resave-data ChemmineOB StartedAt: 2025-02-06 06:41:24 -0500 (Thu, 06 Feb 2025) EndedAt: 2025-02-06 06:42:55 -0500 (Thu, 06 Feb 2025) EllapsedTime: 90.8 seconds RetCode: 0 Status: OK PackageFile: ChemmineOB_1.45.0.tar.gz PackageFileSize: 1.303 MiB