Package: ChemmineOB Version: 1.45.0 Command: /home/rapidbuild/bbs-3.21-bioc-rapid/R/bin/R CMD INSTALL ChemmineOB StartedAt: 2025-02-06 06:10:29 -0500 (Thu, 06 Feb 2025) EndedAt: 2025-02-06 06:12:01 -0500 (Thu, 06 Feb 2025) EllapsedTime: 91.8 seconds RetCode: 0 Status: OK