Package: ChemmineR Version: 3.59.0 Command: /home/rapidbuild/bbs-3.21-bioc-rapid/R/bin/R CMD build --keep-empty-dirs --no-resave-data ChemmineR StartedAt: 2025-02-06 06:41:30 -0500 (Thu, 06 Feb 2025) EndedAt: 2025-02-06 06:42:23 -0500 (Thu, 06 Feb 2025) EllapsedTime: 52.9 seconds RetCode: 0 Status: OK PackageFile: ChemmineR_3.59.0.tar.gz PackageFileSize: 2.099 MiB