Package: ComplexHeatmap Version: 2.23.0 Command: /home/rapidbuild/bbs-3.21-bioc-rapid/R/bin/R CMD build --keep-empty-dirs --no-resave-data ComplexHeatmap StartedAt: 2025-02-05 06:41:04 -0500 (Wed, 05 Feb 2025) EndedAt: 2025-02-05 06:41:32 -0500 (Wed, 05 Feb 2025) EllapsedTime: 27.9 seconds RetCode: 0 Status: OK PackageFile: ComplexHeatmap_2.23.0.tar.gz PackageFileSize: 1.392 MiB