Package: DECIPHER
Version: 3.3.2
Command: /home/rapidbuild/bbs-3.21-bioc-rapid/R/bin/R CMD INSTALL DECIPHER
StartedAt: 2025-02-21 12:25:09 -0500 (Fri, 21 Feb 2025)
EndedAt: 2025-02-21 12:25:53 -0500 (Fri, 21 Feb 2025)
EllapsedTime: 43.8 seconds
RetCode: 0
Status: OK