Package: DESeq2 Version: 1.47.3 Command: /home/rapidbuild/bbs-3.21-bioc-rapid/R/bin/R CMD build --keep-empty-dirs --no-resave-data DESeq2 StartedAt: 2025-02-06 06:45:02 -0500 (Thu, 06 Feb 2025) EndedAt: 2025-02-06 06:46:10 -0500 (Thu, 06 Feb 2025) EllapsedTime: 67.4 seconds RetCode: 1 Status: ERROR PackageFile: None PackageFileSize: NA