Package: DEXSeq Version: 1.53.0 Command: /home/rapidbuild/bbs-3.21-bioc-rapid/R/bin/R CMD build --keep-empty-dirs --no-resave-data DEXSeq StartedAt: 2025-02-10 06:47:10 -0500 (Mon, 10 Feb 2025) EndedAt: 2025-02-10 06:48:06 -0500 (Mon, 10 Feb 2025) EllapsedTime: 55.6 seconds RetCode: 1 Status: ERROR PackageFile: None PackageFileSize: NA