Package: DropletUtils Version: 1.27.2 Command: /home/rapidbuild/bbs-3.21-bioc-rapid/R/bin/R CMD build --keep-empty-dirs --no-resave-data DropletUtils StartedAt: 2025-02-06 06:47:02 -0500 (Thu, 06 Feb 2025) EndedAt: 2025-02-06 06:48:13 -0500 (Thu, 06 Feb 2025) EllapsedTime: 70.9 seconds RetCode: 0 Status: OK PackageFile: DropletUtils_1.27.2.tar.gz PackageFileSize: 588.6 KiB