Package: DropletUtils Version: 1.27.2 Command: /home/rapidbuild/bbs-3.21-bioc-rapid/R/bin/R CMD INSTALL DropletUtils StartedAt: 2025-02-06 06:23:12 -0500 (Thu, 06 Feb 2025) EndedAt: 2025-02-06 06:24:12 -0500 (Thu, 06 Feb 2025) EllapsedTime: 60.1 seconds RetCode: 0 Status: OK