Package: EBImage Version: 4.49.0 Command: /home/rapidbuild/bbs-3.21-bioc-rapid/R/bin/R CMD build --keep-empty-dirs --no-resave-data EBImage StartedAt: 2025-02-05 06:46:43 -0500 (Wed, 05 Feb 2025) EndedAt: 2025-02-05 06:47:14 -0500 (Wed, 05 Feb 2025) EllapsedTime: 30.3 seconds RetCode: 0 Status: OK PackageFile: EBImage_4.49.0.tar.gz PackageFileSize: 5.209 MiB