Package: EBImage Version: 4.49.0 Command: /home/rapidbuild/bbs-3.21-bioc-rapid/R/bin/R CMD INSTALL EBImage StartedAt: 2025-02-05 06:13:50 -0500 (Wed, 05 Feb 2025) EndedAt: 2025-02-05 06:14:01 -0500 (Wed, 05 Feb 2025) EllapsedTime: 11.0 seconds RetCode: 0 Status: OK