Package: EBarrays Version: 2.71.0 Command: /home/rapidbuild/bbs-3.21-bioc-rapid/R/bin/R CMD build --keep-empty-dirs --no-resave-data EBarrays StartedAt: 2025-02-10 06:48:42 -0500 (Mon, 10 Feb 2025) EndedAt: 2025-02-10 06:48:55 -0500 (Mon, 10 Feb 2025) EllapsedTime: 13.3 seconds RetCode: 0 Status: OK PackageFile: EBarrays_2.71.0.tar.gz PackageFileSize: 1.039 MiB