Package: EDASeq Version: 2.41.0 Command: /home/rapidbuild/bbs-3.21-bioc-rapid/R/bin/R CMD INSTALL EDASeq StartedAt: 2025-02-06 06:27:20 -0500 (Thu, 06 Feb 2025) EndedAt: 2025-02-06 06:27:59 -0500 (Thu, 06 Feb 2025) EllapsedTime: 39.1 seconds RetCode: 0 Status: OK