Package: ExperimentHubData Version: 1.33.0 Command: /home/rapidbuild/bbs-3.21-bioc-rapid/R/bin/R CMD build --keep-empty-dirs --no-resave-data ExperimentHubData StartedAt: 2025-02-06 06:49:41 -0500 (Thu, 06 Feb 2025) EndedAt: 2025-02-06 06:50:17 -0500 (Thu, 06 Feb 2025) EllapsedTime: 36.0 seconds RetCode: 0 Status: OK PackageFile: ExperimentHubData_1.33.0.tar.gz PackageFileSize: 222.9 KiB