Package: ExperimentHubData Version: 1.33.0 Command: /home/rapidbuild/bbs-3.21-bioc-rapid/R/bin/R CMD check --install=check:ExperimentHubData.install-out.txt --library=/home/rapidbuild/bbs-3.21-bioc-rapid/R/site-library --timings ExperimentHubData_1.33.0.tar.gz StartedAt: 2025-02-06 08:29:13 -0500 (Thu, 06 Feb 2025) EndedAt: 2025-02-06 08:32:55 -0500 (Thu, 06 Feb 2025) EllapsedTime: 221.7 seconds RetCode: 0 Status: WARNINGS CheckDir: ExperimentHubData.Rcheck Warnings: 1