Package: ExperimentHubData Version: 1.33.0 Command: /home/rapidbuild/bbs-3.21-bioc-rapid/R/bin/R CMD INSTALL ExperimentHubData StartedAt: 2025-02-06 06:29:07 -0500 (Thu, 06 Feb 2025) EndedAt: 2025-02-06 06:29:45 -0500 (Thu, 06 Feb 2025) EllapsedTime: 38.1 seconds RetCode: 0 Status: OK