Package: GEOquery Version: 2.75.0 Command: /home/rapidbuild/bbs-3.21-bioc-rapid/R/bin/R CMD build --keep-empty-dirs --no-resave-data GEOquery StartedAt: 2025-02-05 06:58:10 -0500 (Wed, 05 Feb 2025) EndedAt: 2025-02-05 06:58:57 -0500 (Wed, 05 Feb 2025) EllapsedTime: 46.6 seconds RetCode: 0 Status: OK PackageFile: GEOquery_2.75.0.tar.gz PackageFileSize: 13.07 MiB