Package: GEOquery Version: 2.75.0 Command: /home/rapidbuild/bbs-3.21-bioc-rapid/R/bin/R CMD INSTALL GEOquery StartedAt: 2025-02-05 06:17:50 -0500 (Wed, 05 Feb 2025) EndedAt: 2025-02-05 06:18:13 -0500 (Wed, 05 Feb 2025) EllapsedTime: 22.7 seconds RetCode: 0 Status: OK