Package: GOSemSim Version: 2.33.0 Command: /home/rapidbuild/bbs-3.21-bioc-rapid/R/bin/R CMD build --keep-empty-dirs --no-resave-data GOSemSim StartedAt: 2025-02-10 07:02:19 -0500 (Mon, 10 Feb 2025) EndedAt: 2025-02-10 07:02:39 -0500 (Mon, 10 Feb 2025) EllapsedTime: 20.3 seconds RetCode: 0 Status: OK PackageFile: GOSemSim_2.33.0.tar.gz PackageFileSize: 594.7 KiB