Package: GOSemSim Version: 2.33.0 Command: /home/rapidbuild/bbs-3.21-bioc-rapid/R/bin/R CMD INSTALL GOSemSim StartedAt: 2025-02-10 06:21:38 -0500 (Mon, 10 Feb 2025) EndedAt: 2025-02-10 06:21:59 -0500 (Mon, 10 Feb 2025) EllapsedTime: 20.4 seconds RetCode: 0 Status: OK