Package: GOstats Version: 2.73.0 Command: /home/rapidbuild/bbs-3.21-bioc-rapid/R/bin/R CMD build --keep-empty-dirs --no-resave-data GOstats StartedAt: 2025-02-06 07:00:51 -0500 (Thu, 06 Feb 2025) EndedAt: 2025-02-06 07:06:49 -0500 (Thu, 06 Feb 2025) EllapsedTime: 358.1 seconds RetCode: 1 Status: ERROR PackageFile: None PackageFileSize: NA