Package: GOstats Version: 2.73.0 Command: /home/rapidbuild/bbs-3.21-bioc-rapid/R/bin/R CMD INSTALL GOstats StartedAt: 2025-02-06 06:27:47 -0500 (Thu, 06 Feb 2025) EndedAt: 2025-02-06 06:28:07 -0500 (Thu, 06 Feb 2025) EllapsedTime: 20.7 seconds RetCode: 0 Status: OK