Package: GSEABase Version: 1.69.0 Command: /home/rapidbuild/bbs-3.21-bioc-rapid/R/bin/R CMD check --install=check:GSEABase.install-out.txt --library=/home/rapidbuild/bbs-3.21-bioc-rapid/R/site-library --timings GSEABase_1.69.0.tar.gz StartedAt: 2025-02-06 08:50:15 -0500 (Thu, 06 Feb 2025) EndedAt: 2025-02-06 08:52:27 -0500 (Thu, 06 Feb 2025) EllapsedTime: 132.3 seconds RetCode: 0 Status: OK CheckDir: GSEABase.Rcheck Warnings: 0