Package: GSEABase Version: 1.69.0 Command: /home/rapidbuild/bbs-3.21-bioc-rapid/R/bin/R CMD INSTALL GSEABase StartedAt: 2025-02-06 06:22:14 -0500 (Thu, 06 Feb 2025) EndedAt: 2025-02-06 06:22:30 -0500 (Thu, 06 Feb 2025) EllapsedTime: 15.2 seconds RetCode: 0 Status: OK