Package: GenomeInfoDb
Version: 1.43.4
Command: /home/rapidbuild/bbs-3.21-bioc-rapid/R/bin/R CMD INSTALL GenomeInfoDb
StartedAt: 2025-02-21 12:15:51 -0500 (Fri, 21 Feb 2025)
EndedAt: 2025-02-21 12:16:01 -0500 (Fri, 21 Feb 2025)
EllapsedTime: 9.2 seconds
RetCode: 0
Status: OK