Package: GenomicAlignments Version: 1.43.0 Command: /home/rapidbuild/bbs-3.21-bioc-rapid/R/bin/R CMD build --keep-empty-dirs --no-resave-data GenomicAlignments StartedAt: 2025-02-06 06:57:33 -0500 (Thu, 06 Feb 2025) EndedAt: 2025-02-06 06:59:03 -0500 (Thu, 06 Feb 2025) EllapsedTime: 90.1 seconds RetCode: 0 Status: OK PackageFile: GenomicAlignments_1.43.0.tar.gz PackageFileSize: 2.165 MiB