Package: GenomicAlignments Version: 1.43.0 Command: /home/rapidbuild/bbs-3.21-bioc-rapid/R/bin/R CMD INSTALL GenomicAlignments StartedAt: 2025-02-06 06:25:16 -0500 (Thu, 06 Feb 2025) EndedAt: 2025-02-06 06:25:47 -0500 (Thu, 06 Feb 2025) EllapsedTime: 30.7 seconds RetCode: 0 Status: OK