Package: Gviz Version: 1.51.0 Command: /home/rapidbuild/bbs-3.21-bioc-rapid/R/bin/R CMD build --keep-empty-dirs --no-resave-data Gviz StartedAt: 2025-02-06 07:02:51 -0500 (Thu, 06 Feb 2025) EndedAt: 2025-02-06 07:05:46 -0500 (Thu, 06 Feb 2025) EllapsedTime: 174.7 seconds RetCode: 0 Status: OK PackageFile: Gviz_1.51.0.tar.gz PackageFileSize: 7.319 MiB