Package: Gviz Version: 1.51.0 Command: /home/rapidbuild/bbs-3.21-bioc-rapid/R/bin/R CMD check --install=check:Gviz.install-out.txt --library=/home/rapidbuild/bbs-3.21-bioc-rapid/R/site-library --timings Gviz_1.51.0.tar.gz StartedAt: 2025-02-06 08:50:54 -0500 (Thu, 06 Feb 2025) EndedAt: 2025-02-06 08:59:36 -0500 (Thu, 06 Feb 2025) EllapsedTime: 522.1 seconds RetCode: 0 Status: OK CheckDir: Gviz.Rcheck Warnings: 0